BEGIN:VCALENDAR
VERSION:2.0
PRODID:-//eventon.com NONSGML v1.0//EN
CALSCALE:GREGORIAN
METHOD:PUBLISH
BEGIN:VEVENT
UID:69e7325400f73
DTSTAMP:20260421T081620Z
DTSTART:20250523T230000Z
DTEND:20250906T010000Z
LOCATION:The Barn at Oconee State Park 624 State Park Rd.
SUMMARY:Bluegrass Music and Square Dancing
DESCRIPTION:It&#8217;s Friday night and it&#8217;s time to dance! Grab your
  partner and two-step to Oconee State Park&#8217;s barn for a night of fun\
 ,  music and square dancing. No experience necessary to have a grand ole ti
 me. Bluegrass music is performed by the Dixie Bluegrass Boys\,  led by Geor
 gia Music Hall[..]\nhttps://upcountrysc.com/events/bluegrass-music-and-squa
 re-dancing/
URL:https://upcountrysc.com/events/bluegrass-music-and-square-dancing/
END:VEVENT
END:VCALENDAR